BEGIN:VCALENDAR
VERSION:2.0
PRODID:-//Electrical Safety New Zealand - ECPv5.3.1.1//NONSGML v1.0//EN
CALSCALE:GREGORIAN
METHOD:PUBLISH
X-WR-CALNAME:Electrical Safety New Zealand
X-ORIGINAL-URL:https://esnz.org.nz
X-WR-CALDESC:Events for Electrical Safety New Zealand
BEGIN:VTIMEZONE
TZID:Pacific/Auckland
BEGIN:STANDARD
TZOFFSETFROM:+1300
TZOFFSETTO:+1200
TZNAME:NZST
DTSTART:20180331T140000
END:STANDARD
BEGIN:DAYLIGHT
TZOFFSETFROM:+1200
TZOFFSETTO:+1300
TZNAME:NZDT
DTSTART:20180929T140000
END:DAYLIGHT
END:VTIMEZONE
BEGIN:VEVENT
DTSTART;VALUE=DATE:20180401
DTEND;VALUE=DATE:20180402
DTSTAMP:20260425T041101
CREATED:20171222T183725Z
LAST-MODIFIED:20180211T013951Z
UID:255-1522540800-1522627199@esnz.org.nz
SUMMARY:Easter Monday
DESCRIPTION:
URL:https://esnz.org.nz/event/easter/
END:VEVENT
END:VCALENDAR