BEGIN:VCALENDAR
VERSION:2.0
PRODID:-//Electrical Safety New Zealand - ECPv5.3.1.1//NONSGML v1.0//EN
CALSCALE:GREGORIAN
METHOD:PUBLISH
X-WR-CALNAME:Electrical Safety New Zealand
X-ORIGINAL-URL:https://esnz.org.nz
X-WR-CALDESC:Events for Electrical Safety New Zealand
BEGIN:VTIMEZONE
TZID:Pacific/Auckland
BEGIN:STANDARD
TZOFFSETFROM:+1300
TZOFFSETTO:+1200
TZNAME:NZST
DTSTART:20200404T140000
END:STANDARD
BEGIN:DAYLIGHT
TZOFFSETFROM:+1200
TZOFFSETTO:+1300
TZNAME:NZDT
DTSTART:20200926T140000
END:DAYLIGHT
END:VTIMEZONE
BEGIN:VEVENT
DTSTART;TZID=Pacific/Auckland:20201127T070000
DTEND;TZID=Pacific/Auckland:20201127T090000
DTSTAMP:20260425T024236
CREATED:20201104T213635Z
LAST-MODIFIED:20201104T213635Z
UID:478-1606460400-1606467600@esnz.org.nz
SUMMARY:Breakfast meeting - Dunedin
DESCRIPTION:
URL:https://esnz.org.nz/event/breakfast-meeting-dunedin-7/
LOCATION:Boldini Cafe\, Cnr Princes & High Streets\, Dunedin\, New Zealand
ORGANIZER;CN="Alec%20Knewstubb":MAILTO:alec@inspectionz.co.nz
END:VEVENT
END:VCALENDAR