BEGIN:VCALENDAR
VERSION:2.0
PRODID:-//Electrical Safety New Zealand - ECPv5.3.1.1//NONSGML v1.0//EN
CALSCALE:GREGORIAN
METHOD:PUBLISH
X-WR-CALNAME:Electrical Safety New Zealand
X-ORIGINAL-URL:https://esnz.org.nz
X-WR-CALDESC:Events for Electrical Safety New Zealand
BEGIN:VTIMEZONE
TZID:Pacific/Auckland
BEGIN:STANDARD
TZOFFSETFROM:+1300
TZOFFSETTO:+1200
TZNAME:NZST
DTSTART:20190406T140000
END:STANDARD
BEGIN:DAYLIGHT
TZOFFSETFROM:+1200
TZOFFSETTO:+1300
TZNAME:NZDT
DTSTART:20190928T140000
END:DAYLIGHT
END:VTIMEZONE
BEGIN:VEVENT
DTSTART;TZID=Pacific/Auckland:20190503T070000
DTEND;TZID=Pacific/Auckland:20190503T090000
DTSTAMP:20260425T134402
CREATED:20190331T214911Z
LAST-MODIFIED:20190331T214911Z
UID:453-1556866800-1556874000@esnz.org.nz
SUMMARY:breakfast meeting - Dunedin
DESCRIPTION:This meeting was due end May; but has been brought forward to co-incide with the AGM / Conference
URL:https://esnz.org.nz/event/breakfast-meeting-dunedin-5/
LOCATION:Heritage Dunedin Leisure Lodge\, 30 Duke St\, North Dunedin\, Dunedin\, Otago\, 9016\, New Zealand
ORGANIZER;CN="Alec%20Knewstubb":MAILTO:alec@inspectionz.co.nz
END:VEVENT
END:VCALENDAR