BEGIN:VCALENDAR
VERSION:2.0
PRODID:-//Electrical Safety New Zealand - ECPv5.3.1.1//NONSGML v1.0//EN
CALSCALE:GREGORIAN
METHOD:PUBLISH
X-WR-CALNAME:Electrical Safety New Zealand
X-ORIGINAL-URL:https://esnz.org.nz
X-WR-CALDESC:Events for Electrical Safety New Zealand
BEGIN:VTIMEZONE
TZID:Pacific/Auckland
BEGIN:STANDARD
TZOFFSETFROM:+1300
TZOFFSETTO:+1200
TZNAME:NZST
DTSTART:20180331T140000
END:STANDARD
BEGIN:DAYLIGHT
TZOFFSETFROM:+1200
TZOFFSETTO:+1300
TZNAME:NZDT
DTSTART:20180929T140000
END:DAYLIGHT
END:VTIMEZONE
BEGIN:VEVENT
DTSTART;TZID=Pacific/Auckland:20180824T070000
DTEND;TZID=Pacific/Auckland:20180824T090000
DTSTAMP:20260425T140726
CREATED:20180803T184705Z
LAST-MODIFIED:20180803T184705Z
UID:424-1535094000-1535101200@esnz.org.nz
SUMMARY:Breakfast Meeting: Dunedin
DESCRIPTION:Please RSVP to Alec by CoB 22 Aug \n 
URL:https://esnz.org.nz/event/breakfast-meeting-dunedin-3/
LOCATION:Heritage Dunedin Leisure Lodge\, 30 Duke St\, North Dunedin\, Dunedin\, Otago\, 9016\, New Zealand
ORGANIZER;CN="Alec%20Knewstubb":MAILTO:alec@inspectionz.co.nz
END:VEVENT
END:VCALENDAR