BEGIN:VCALENDAR
VERSION:2.0
PRODID:-//Electrical Safety New Zealand - ECPv5.3.1.1//NONSGML v1.0//EN
CALSCALE:GREGORIAN
METHOD:PUBLISH
X-WR-CALNAME:Electrical Safety New Zealand
X-ORIGINAL-URL:https://esnz.org.nz
X-WR-CALDESC:Events for Electrical Safety New Zealand
BEGIN:VTIMEZONE
TZID:Pacific/Auckland
BEGIN:STANDARD
TZOFFSETFROM:+1300
TZOFFSETTO:+1200
TZNAME:NZST
DTSTART:20180331T140000
END:STANDARD
BEGIN:DAYLIGHT
TZOFFSETFROM:+1200
TZOFFSETTO:+1300
TZNAME:NZDT
DTSTART:20180929T140000
END:DAYLIGHT
END:VTIMEZONE
BEGIN:VEVENT
DTSTART;VALUE=DATE:20180331
DTEND;VALUE=DATE:20180401
DTSTAMP:20260425T011253
CREATED:20180131T041509Z
LAST-MODIFIED:20180131T041509Z
UID:334-1522454400-1522540799@esnz.org.nz
SUMMARY:Board nominations close
DESCRIPTION:Nominations for positions on the ESNZ Board close today
URL:https://esnz.org.nz/event/board-nominations-close/
END:VEVENT
END:VCALENDAR