BEGIN:VCALENDAR
VERSION:2.0
PRODID:-//Electrical Safety New Zealand - ECPv5.3.1.1//NONSGML v1.0//EN
CALSCALE:GREGORIAN
METHOD:PUBLISH
X-WR-CALNAME:Electrical Safety New Zealand
X-ORIGINAL-URL:https://esnz.org.nz
X-WR-CALDESC:Events for Electrical Safety New Zealand
BEGIN:VTIMEZONE
TZID:Pacific/Auckland
BEGIN:STANDARD
TZOFFSETFROM:+1300
TZOFFSETTO:+1200
TZNAME:NZST
DTSTART:20180331T140000
END:STANDARD
BEGIN:DAYLIGHT
TZOFFSETFROM:+1200
TZOFFSETTO:+1300
TZNAME:NZDT
DTSTART:20180929T140000
END:DAYLIGHT
END:VTIMEZONE
BEGIN:VEVENT
DTSTART;TZID=Pacific/Auckland:20180202T070000
DTEND;TZID=Pacific/Auckland:20180202T090000
DTSTAMP:20260425T064358
CREATED:20180120T233429Z
LAST-MODIFIED:20180120T233806Z
UID:297-1517554800-1517562000@esnz.org.nz
SUMMARY:Breakfast Meeting (Auckland)
DESCRIPTION:Bacon & Eggs (any way) + coffee / tea; $20 \nfollowed by meeting \ndiscussion of industry issues\, including: \n\n new ESNZ website\nStandards update\nInspection of spraybooths\nQuality of emergency reinstatements\n\nRSVP to organiser by 1 Feb
URL:https://esnz.org.nz/event/auckland-breakfast-meeting/
LOCATION:The Local\, 371 Remuera Road\, Remuera\, Auckland\, New Zealand
ORGANIZER;CN="Mike%20Chopping":MAILTO:mac@chopping.co.nz
END:VEVENT
END:VCALENDAR