BEGIN:VCALENDAR
VERSION:2.0
PRODID:-//Electrical Safety New Zealand - ECPv5.3.1.1//NONSGML v1.0//EN
CALSCALE:GREGORIAN
METHOD:PUBLISH
X-WR-CALNAME:Electrical Safety New Zealand
X-ORIGINAL-URL:https://esnz.org.nz
X-WR-CALDESC:Events for Electrical Safety New Zealand
BEGIN:VTIMEZONE
TZID:Pacific/Auckland
BEGIN:STANDARD
TZOFFSETFROM:+1300
TZOFFSETTO:+1200
TZNAME:NZST
DTSTART:20180331T140000
END:STANDARD
BEGIN:DAYLIGHT
TZOFFSETFROM:+1200
TZOFFSETTO:+1300
TZNAME:NZDT
DTSTART:20180929T140000
END:DAYLIGHT
END:VTIMEZONE
BEGIN:VEVENT
DTSTART;TZID=Pacific/Auckland:20180511T120000
DTEND;TZID=Pacific/Auckland:20180512T230000
DTSTAMP:20260425T053626
CREATED:20171221T215442Z
LAST-MODIFIED:20180508T000300Z
UID:216-1526040000-1526166000@esnz.org.nz
SUMMARY:AGM Conference
DESCRIPTION:Topics  (TBC):  Electric vehicle charging ;  inspection & reverification of EV charging stations;  inspection of PV arrays;  Overview of changes in AS/NZS 3000 \nPROPOSED PROGRAMME \nFriday 11 \n1300        Welcome \n1330       Guest speaker: Electric vehicles \n1500       afternoon tea \n1530      Presentation on 25 years of ESNZ / Open Forum \nEvening:    free \n  \nSaturday 12 \n0900      Guest speaker: Solar \n1000     Morning tea \n1030     Solar: testing & inspection \n  \n1130    Off-grid relocatable accommodation / Open Forum \n1200    Lunch \n1300    Open Forum \n1415    Afternoon tea \n1415    AGM \n1530    Presentations; including Tom Leong Trophy for contribution to electrical safety \n1600    business sessions conclude \n1900    Dinner \n  \nA registration form will be sent to all Members\, and available for download\, in February \nNote: the price shown here is for non-members. Detailed pricing is on the registration form \n  \n 
URL:https://esnz.org.nz/event/agm-conference/
LOCATION:Novotel Rororua Lakeside\, Lake end\, Tutanekai St\, Rotorua\, New Zealand
ORGANIZER;CN="Terry%20Blake":MAILTO:president@esnz.org.nz
END:VEVENT
END:VCALENDAR